BEGIN:VCALENDAR
VERSION:2.0
PRODID:-//Indego - ECPv6.15.17//NONSGML v1.0//EN
CALSCALE:GREGORIAN
METHOD:PUBLISH
X-WR-CALNAME:Indego
X-ORIGINAL-URL:https://www.rideindego.com
X-WR-CALDESC:Events for Indego
REFRESH-INTERVAL;VALUE=DURATION:PT1H
X-Robots-Tag:noindex
X-PUBLISHED-TTL:PT1H
BEGIN:VTIMEZONE
TZID:America/New_York
BEGIN:DAYLIGHT
TZOFFSETFROM:-0500
TZOFFSETTO:-0400
TZNAME:EDT
DTSTART:20220313T070000
END:DAYLIGHT
BEGIN:STANDARD
TZOFFSETFROM:-0400
TZOFFSETTO:-0500
TZNAME:EST
DTSTART:20221106T060000
END:STANDARD
BEGIN:DAYLIGHT
TZOFFSETFROM:-0500
TZOFFSETTO:-0400
TZNAME:EDT
DTSTART:20230312T070000
END:DAYLIGHT
BEGIN:STANDARD
TZOFFSETFROM:-0400
TZOFFSETTO:-0500
TZNAME:EST
DTSTART:20231105T060000
END:STANDARD
BEGIN:DAYLIGHT
TZOFFSETFROM:-0500
TZOFFSETTO:-0400
TZNAME:EDT
DTSTART:20240310T070000
END:DAYLIGHT
BEGIN:STANDARD
TZOFFSETFROM:-0400
TZOFFSETTO:-0500
TZNAME:EST
DTSTART:20241103T060000
END:STANDARD
END:VTIMEZONE
BEGIN:VEVENT
DTSTART;TZID=America/New_York:20230614T190000
DTEND;TZID=America/New_York:20230614T210000
DTSTAMP:20260422T075020
CREATED:20230614T132846Z
LAST-MODIFIED:20230614T132846Z
UID:10803-1686769200-1686776400@www.rideindego.com
SUMMARY:Wednesday Night Ride
DESCRIPTION:Wednesday Night Rides are social bike rides in Philly\, every two weeks. Rides start at a variety of locations throughout the city and usually but not always end at a bar or restaurant. Rides are moderately paced (average 8 mph) and prioritize bicycle infrastructure and connecting with other riders. All are welcome! Please check social media (Reddit or Instagram) for the details of each ride.
URL:https://www.rideindego.com/event/wednesday-night-ride/
LOCATION:PA
ATTACH;FMTTYPE=image/png:https://www.rideindego.com/wp-content/uploads/2023/06/WNR_4.png
END:VEVENT
BEGIN:VEVENT
DTSTART;TZID=America/New_York:20230604T110000
DTEND;TZID=America/New_York:20230604T130000
DTSTAMP:20260422T075020
CREATED:20230426T200346Z
LAST-MODIFIED:20230524T180901Z
UID:10499-1685876400-1685883600@www.rideindego.com
SUMMARY:Ambassador Ride with Indigenous Education
DESCRIPTION:Join us on a FREE two-hour group ride led by the Bicycle Coalition of Greater Philadelphia in partnership with Indego and the Better Bike Share Partnership (BBSP.) Ride leaders will go at a leisurely pace\, accommodating cyclists of all levels.   \nHelmets will be provided\, and participants can keep the helmets after the class (because safety is important for all bicyclists!) Only registered participants can join the ride (no walk-ups allowed.) The size of this event will be capped at 10-12 participants*  \n*Height Restrictions: Indego bikes are recommended for 5′ 2″ and up. If you’d like to come out with your own bike\, please let us know.  \nPlease be sure to arrive to this event hydrated\, bring extra water\, wear sunscreen\, and wear comfortable clothing for riding a bike. If you have any questions or concerns\, please contact lor.song@bicyclecoalition.org or 484-531-4737 to find out more.  \nRiders must be 16 years of age or older to participate in this group ride. All riders will be using Indego’s electric bike\, and any minors MUST have a waiver signed by a parent or legal guardian. Spots are limited\, so sign up now!  \nMake it social! Use the hashtag #RideIndego or tag @RideIndego for a chance to get reposted on Indego’s social media channels! 
URL:https://www.rideindego.com/event/ambassador-ride-with-indigenous-education/
LOCATION:(Indego Station: West Philadelphia YMCA) 5120 Chestnut St.\, Philadelphia PA\, 19139\, 5120 Chestnut St.\, Philadelphia\, PA\, 19139\, United States
ATTACH;FMTTYPE=image/jpeg:https://www.rideindego.com/wp-content/uploads/2023/04/DSC00224-2.jpg
END:VEVENT
BEGIN:VEVENT
DTSTART;TZID=America/New_York:20230603T110000
DTEND;TZID=America/New_York:20230603T130000
DTSTAMP:20260422T075020
CREATED:20230321T173314Z
LAST-MODIFIED:20230530T200454Z
UID:10307-1685790000-1685797200@www.rideindego.com
SUMMARY:Adult Learn to Ride with Di Silvestro Rec Center
DESCRIPTION:Join Us! \nThis FREE two-hour Adult Learn to Ride class teaches adults and teenagers 14 and up how to ride a bicycle or remember how to ride a bicycle and is led by the Bicycle Coalition of Greater Philadelphia in partnership with Indego and the Better Bike Share Partnership (BBSP.) This class is perfect for those who haven’t ever ridden a bike or haven’t ridden in a long time and includes a skill-building bicycle course that prepares you to ride by the end of the class. \nStaff and volunteers will teach participants how to: \n● Balance \n● Pedaling techniques \n● Starting and stopping \n● Steering and shifting gears \nThis class will use Indego bikes. Helmets will be provided and participants can keep the helmets after the class (because safety is important for all bicyclists!) \nOnly registered participants can join the class (no walk-ups allowed). The size of this event will be capped at 10-12 participants* \n*Height Restrictions: The bikes we use for the class are recommended for 5′ 2″ and up. If you’d like to come out with your own bike\, please let us know. \nIf you have any questions or concerns\, please contact\, lor.song@bicyclecoalition.org or 484-531-4737 to find out more. \nMake it social! Use the hashtag #RideIndego or tag @RideIndego for a chance to get reposted on Indego’s social media channels!
URL:https://www.rideindego.com/event/adult-learn-to-ride-with-disilvestro-rec-center/
LOCATION:(Indego Station: 15th and Castle Ave) 1701 S 15th St\, Philadelphia\, PA 19145\, 1701 S 15th St.\, Philadelphia\, PA\, 19145\, United States
ATTACH;FMTTYPE=image/jpeg:https://www.rideindego.com/wp-content/uploads/2023/03/nwPSo8OE.jpeg
END:VEVENT
BEGIN:VEVENT
DTSTART;TZID=America/New_York:20230603T080000
DTEND;TZID=America/New_York:20230603T170000
DTSTAMP:20260422T075020
CREATED:20230531T142101Z
LAST-MODIFIED:20230531T142143Z
UID:10649-1685779200-1685811600@www.rideindego.com
SUMMARY:Cookout & Bike Ride with Neighborhood Bike Works
DESCRIPTION:Ticket and raffle sales will provide key support for their 2023 summer and fall youth programs\, like Earn-A-Bike and Summer Camp. The event includes an optional guided bike ride to and from the event\, traditional cookout/picnic fare and mocktail bar\, door prizes and a raffle\, and a brief presentation from NBW staff and youth participants. \nKids under 5 are free. \nEnter their digital raffle for Eagles Tickets & the REI + Package\, or\, enter at the event. (Event ticket purchase and event attendance are not necessary to enter/win these packages.) Visit their website to see tons of other awesome raffle items available for raffle at the event.
URL:https://www.rideindego.com/event/cookout-bike-ride-with-neighborhood-bike-works/
LOCATION:The Tricycle Cafe & Bicycle Shop\, 1 Station Ave.\, Conshohocken\, PA\, 19428\, United States
ATTACH;FMTTYPE=application/pdf:https://www.rideindego.com/wp-content/uploads/2023/05/Bike-Ride-Cookout-Poster.pdf
END:VEVENT
BEGIN:VEVENT
DTSTART;TZID=America/New_York:20230507T100000
DTEND;TZID=America/New_York:20230507T130000
DTSTAMP:20260422T075020
CREATED:20230417T155445Z
LAST-MODIFIED:20230417T155518Z
UID:10429-1683453600-1683464400@www.rideindego.com
SUMMARY:Be Well Philly Fest
DESCRIPTION:Be Well Philly is bringing together some of the top fitness and wellness professionals in the region to help you find your healthiest\, happiest self. Hop in on express workouts and wellness experiences throughout the day\, and treat yourself to good-for-you samples and services in the marketplace. Try something NEW\, have FUN and find what makes you feel GOOD!
URL:https://www.rideindego.com/event/10429/
LOCATION:Bok\, 800 Mifflin St.\, Philadelphia\, PA\, 19148\, United States
END:VEVENT
BEGIN:VEVENT
DTSTART;TZID=America/New_York:20230505T204300
DTEND;TZID=America/New_York:20230505T204300
DTSTAMP:20260422T075020
CREATED:20230503T184841Z
LAST-MODIFIED:20230503T185801Z
UID:10524-1683319380-1683319380@www.rideindego.com
SUMMARY:Philly Full Moon Bike Ride
DESCRIPTION:Hosted by Philly Full Moon Bike Rides \nDescription taken from their event page: \nThis will be a 2 stop and end at the beginning start ride. BYOB (bike and beer). Clark Park to Belmont over look will be the stops. Rolling 9PM.\nFAQs:\nMeeting Spot: We normally meet at the Rocky Steps\, or Art Museum steps facing Eakins Oval. We sit closer to the Rocky Statue. \nParking: Parking by the Lloyd Hall is fine if you park after 8PM. It is 2 hour parking to 10PM (during the week). Sedgley Road is ok to park all day (but I think in the winter it is 3 hour parking\, or was). Some bars are kind of far away\, and maybe parking by the ending bar works too\, if there is a good parking place. \nSpeed: This ride is normally around 14 mph or so. There will be catch up stops. No one will be left behind\, intentionally. Any bike is just fine for the ride as long as it is safe to ride. \nHelmets and lights: Encouraged but not required. \nTools: Bring tubes for your bike. Someone will have tools. \nFollowing traffic laws: Also recommended epecially if in a left behind group. The route is mostly on lightly used roads/intersections where traffic is light at this time of the night. Stops signs will be usually rolling stops with call outs. Traffic lights will be stop and go if clear and also group regroup stops if needed. \nOther riding safety issues: Trolley tracks plague the city and we will be crossing at least one set of tracks. Pot holes\, holes in general\, man-hole lids\, water access\, etc are all hazards riders should try avoiding. There will be glass that can cause flats. \nChildren: I don’t recommend. Some people did bring their children over the years.\n**Ride at your own risk** \nRouting monthly:\nThe route can be approximately 10 miles. It will not always be as long. The rides may be up to 15 miles depending on where the route goes past also. I try to keep the rides unique.\nThere will be a mid-point rest stop. I try to find different places every month. The rest stop can be safe\, or even unsafe and dark. The end stop will be at a random place.
URL:https://www.rideindego.com/event/philly-full-moon-bike-ride/
LOCATION:Philadelphia Art Museum\, 2600 Benjamin Franklin Pkwy\, Philadelphia\, PA\, 19130\, United States
ATTACH;FMTTYPE=image/jpeg:https://www.rideindego.com/wp-content/uploads/2023/05/full-moon-ride.jpg
END:VEVENT
BEGIN:VEVENT
DTSTART;TZID=America/New_York:20230430T080000
DTEND;TZID=America/New_York:20230430T140000
DTSTAMP:20260422T075020
CREATED:20230314T211913Z
LAST-MODIFIED:20230314T211913Z
UID:10247-1682841600-1682863200@www.rideindego.com
SUMMARY:Independence Broad Street Run
DESCRIPTION:This year’s Independence Blue Cross Broad Street Run starts on Sunday\, April 30\, 2023\, at 8 a.m. \nThe race begins at the Central High School Athletic Field on Broad Street between Fisher Avenue and Somerville Avenue. The Independence Blue Cross Broad Street Run course has a 10-mile\, point-to-point course (named one of the fastest 10-mile courses in the country by Runner’s World) through the varied neighborhoods of Philadelphia along Broad Street. The 2023 race finishes in the K Lot at Lincoln Financial Field. \nSpectators are welcome to cheer on runners along Broad Street. The 2023 Independence Blue Cross Broad Street Run will also be livestreamed online and broadcast on NBC10.
URL:https://www.rideindego.com/event/independence-broad-street-run/
LOCATION:Central High School Athletic Field
END:VEVENT
BEGIN:VEVENT
DTSTART;TZID=America/New_York:20230423T110000
DTEND;TZID=America/New_York:20230423T170000
DTSTAMP:20260422T075020
CREATED:20230417T155123Z
LAST-MODIFIED:20230417T155123Z
UID:10427-1682247600-1682269200@www.rideindego.com
SUMMARY:Manayunk StrEAT Food Festival
DESCRIPTION:Grab everything from savory BBQ to sweet desserts as Philadelphia’s best food trucks and gourmet food vendors take on historic Main Street Manayunk. You’ll be able to taste-test the best and enjoy festival shopping from various local vendors and Manayunk merchants. The day will also bring live musical performances from six acts on two stages. Come to StrEAT\, and bon appétit!
URL:https://www.rideindego.com/event/manayunk-streat-food-festival/
LOCATION:PA
END:VEVENT
BEGIN:VEVENT
DTSTART;TZID=America/New_York:20230422T170000
DTEND;TZID=America/New_York:20230422T223000
DTSTAMP:20260422T075020
CREATED:20230410T170617Z
LAST-MODIFIED:20230410T170617Z
UID:10403-1682182800-1682202600@www.rideindego.com
SUMMARY:Earth Day on 52nd Street—presented by Get Fresh Daily x cinéSPEAK!
DESCRIPTION:Join cinéSPEAK\, Get Fresh Daily & Friends of Malcolm X Park for their 2023 season kick-off! They’re celebrating Earth Day with fun & interactive garden experiences\, live music & an AfroFuturist family movie night—featuring Black Panther (2018). BYO-Blankets & Chairs — Be sure to dress for the weather: early spring nights can be chilly!
URL:https://www.rideindego.com/event/earth-day-on-52nd-street-presented-by-get-fresh-daily-x-cinespeak/
LOCATION:Malcolm X Park\, 5100 Pine St.\, Philadelphia\, PA\, 19143\, United States
END:VEVENT
BEGIN:VEVENT
DTSTART;TZID=America/New_York:20230415T110000
DTEND;TZID=America/New_York:20230415T130000
DTSTAMP:20260422T075020
CREATED:20230315T194354Z
LAST-MODIFIED:20230322T143137Z
UID:10274-1681556400-1681563600@www.rideindego.com
SUMMARY:Adult Learn to Ride Hank Gathers Rec Center
DESCRIPTION:Join Us! \nThis FREE two-hour Adult Learn to Ride class teaches adults and teenagers 14 and up how to ride a bicycle or remember how to ride a bicycle and is led by the Bicycle Coalition of Greater Philadelphia in partnership with Indego and the Better Bike Share Partnership (BBSP.) This class is perfect for those who haven’t ever ridden a bike or haven’t ridden in a long time and includes a skill-building bicycle course that prepares you to ride by the end of the class. \nStaff and volunteers will teach participants how to: \n● Balance \n● Pedaling techniques \n● Starting and stopping \n● Steering and shifting gears \nThe class will be held at the Indego Station: 25th and Diamond St. Hank Gathers Youth Access Center. \nThis class will use Indego bikes. Helmets will be provided and participants can keep the helmets after the class (because safety is important for all bicyclists!) \nOnly registered participants can join the class (no walk-ups allowed). The size of this event will be capped at 10 – 12 participants* \n*Height Restrictions: The bikes we use for the class are recommended for 5′ 2″ and up. If you’d like to come out with your own bike\, please let us know. \nIf you have any questions or concerns\, please contact\, lor.song@bicyclecoalition.org or 484-531-4737 to find out more. \nMake it social! Use the hashtag #RideIndego or tag @RideIndego for a chance to get reposted on Indego’s social media channels!
URL:https://www.rideindego.com/event/adult-learn-to-ride-25th-diamond/
LOCATION:(Indego Station: 25th and Diamond) 2501 W Diamond St\, Philadlephia\, PA 19121\, 2501 W Diamond St.\, Philadelphia\, PA\, 19127\, United States
ATTACH;FMTTYPE=image/jpeg:https://www.rideindego.com/wp-content/uploads/2023/03/nwPSo8OE.jpeg
END:VEVENT
BEGIN:VEVENT
DTSTART;TZID=America/New_York:20230407T160000
DTEND;TZID=America/New_York:20230407T210000
DTSTAMP:20260422T075020
CREATED:20230322T133754Z
LAST-MODIFIED:20230322T133754Z
UID:10316-1680883200-1680901200@www.rideindego.com
SUMMARY:First Friday at Cherry Street Pier
DESCRIPTION:Cherry Street Pier brings an action-packed First Friday featuring the Artist and Artisans Market\, exhibitions\, artist studio tours\, and stunning views of the Delaware River.
URL:https://www.rideindego.com/event/first-friday-at-cherry-street-pier/
LOCATION:Cherry Street Pier\, 121 N Christopher Columbus Blvd\,\, Philadelphia\, PA\, 19106\, United States
END:VEVENT
BEGIN:VEVENT
DTSTART;TZID=America/New_York:20230331T090000
DTEND;TZID=America/New_York:20230331T153000
DTSTAMP:20260422T075020
CREATED:20230314T210204Z
LAST-MODIFIED:20230314T210204Z
UID:10244-1680253200-1680276600@www.rideindego.com
SUMMARY:Vision Zero Conference PHL 2023
DESCRIPTION:The 2023 Vision Zero Conference focuses on approaches to Vision Zero that help move toward an equitable future. \nThe day-long conference featuring speakers and panelists will be held in person at Temple University on Friday\, March 31st from 9:00am to 3:30pm. \nThe conference will be followed at 4:00pm by the 2023 Better Mobility Mayoral Forum\, where the Philadelphia mayoral candidates will have an opportunity to speak about their views on sustainable mobility and Vision Zero. Daniel Pearson\, Inquirer Editorial Writer\, will moderate the discussion.
URL:https://www.rideindego.com/event/vision-zero-conference-phl-2023/
LOCATION:Temple University Student Center\, 1755 N 13th St\, Philadelphia\, PA\, 19122\, United States
END:VEVENT
END:VCALENDAR